BEGIN:VCALENDAR
VERSION:2.0
PRODID:-//wp-events-plugin.com//7.2.3.1//EN
TZID:America/Anchorage
X-WR-TIMEZONE:America/Anchorage
BEGIN:VEVENT
UID:172@alaskaworldaffairs.org
DTSTART;TZID=America/Anchorage:20150115T190000
DTEND;TZID=America/Anchorage:20150115T213000
DTSTAMP:20231222T082611Z
URL:https://alaskaworldaffairs.org/archived-events/world-wiz-jan-2015/
SUMMARY:World Wiz Pub Trivia Night
DESCRIPTION:[row][span8]\nWorld Wiz Pub Trivia Night is our crowd-favorite 
 fundraiser for featuring six rounds of globally-themed trivia\, great priz
 es\, an interactive raffle auction\, a traditional silent auction\, and mo
 re fun than should be allowed!\nEmcee/Trivia Master: Dr. Robert Artwohl\, 
 Alaska World Affairs Council Board of Directors &amp\; Alaska Vein Clinic 
 Owner\n\n\n\nTickets are available below for $20 per person and at the doo
 r for $25 per person. Online ticket sales close at midnight on Tuesday\, J
 anuary 13th.\nTeams consist of up to four individuals each. You can bring 
 three friends\, family members\, co-workers\, etc. to form your team or jo
 in three new friends who happen to sit with you at the event!\nSeating is 
 available on a first-come first-serve basis. Doors will open at 6:30pm wit
 h the trivia kicking-off promptly at 7:00pm.\n\n\n\nRounds will feature tr
 ivia questions on topics such as World Airlines\, World Buildings\, World 
 Treaties\, World Movies\, and the 2014 WorldQuest Categories.\n\nIf you ar
 e unsure about a trivia round\, you can "rent" the expertise of a voluntee
 r university professor to bolster your chances of winning the grand prize\
 , World Wiz Champion pub glasses for each member of your team! Rent-a-Prof
 essor is by donation with a suggested starting donation of $75/round.\n\n\
 n\n"Like" our Facebook page for practice trivia questions and highlights o
 f prizes and auction items leading up to the event.\n\n\n\n\nSpecial thank
 s to our in-kind donors!\n\n\nAlaska Aces\; Alaska Aviation Museum\; Alask
 a Chicks\; Alaska Club\; Alaska Public Media\; Alaska Railroad\; Alaska Se
 aLife Center\; Alaska Wildland Adventures\; Alaska World Affairs Council's
  Board of Directors\; Anchorage Media Group\; Great Harvest Bread Co\; Hot
 el Captain Cook\; Major Marine Tours\; Modern Dwellers Chocolate Lounge\; 
 Moose's Tooth\; New Sagaya\; Sack's Cafe\; Snow City Cafe\; Spenard Roadho
 use\; Suite 100\;  Tap Root Public House\; The Flying Dutchman Pastry Sho
 p\n\nContact Alyssa Bish for information on becoming an event or round spo
 nsor! In-kind donations of anything from gift cards and artwork to tour an
 d lodging vouchers are also very welcome for the raffle and silent auction
 s\, contact Alyssa Bish for details!
ATTACH;FMTTYPE=image/jpeg:https://alaskaworldaffairs.org/wp-content/upload
 s/2014/06/World-Wiz-Logo_white-outline-letters.jpg
CATEGORIES:Special Events
END:VEVENT
BEGIN:VTIMEZONE
TZID:America/Anchorage
X-LIC-LOCATION:America/Anchorage
BEGIN:STANDARD
DTSTART:20141102T010000
TZOFFSETFROM:-0800
TZOFFSETTO:-0900
TZNAME:AKST
END:STANDARD
END:VTIMEZONE
END:VCALENDAR