BEGIN:VCALENDAR
VERSION:2.0
PRODID:-//wp-events-plugin.com//7.2.3.1//EN
TZID:America/Anchorage
X-WR-TIMEZONE:America/Anchorage
BEGIN:VEVENT
UID:248@alaskaworldaffairs.org
DTSTART;TZID=America/Anchorage:20171109T180000
DTEND;TZID=America/Anchorage:20171109T190000
DTSTAMP:20231222T085911Z
URL:https://alaskaworldaffairs.org/archived-events/middle-east-trump-gregg
 -roman/
SUMMARY:The Middle East & the Trump Administration  ||  Gregg Roman
DESCRIPTION:Speaker - Gregg Roman\nAT A GLANCE:\n\n 	CEO of the Middle East
  Forum\n 	Former Director of the Community Relations Council of the Jewish
  Federation of Greater Pittsburgh\n 	Previously served as the political ad
 visor to the Deputy Foreign Minister of Israel\n\n\n\n\nGregg Roman functi
 ons as the chief operations officer for the Middle East Forum\, responsibl
 e for day-to-day management\, communications\, and financial resource deve
 lopment. Mr. Roman previously served as director of the Community Relation
 s Council of the Jewish Federation of Greater Pittsburgh. In 2014\, he was
  named one of the ten most inspiring global Jewish leaders by the Jewish T
 elegraphic Agency. He previously served as the political advisor to the de
 puty foreign minister of Israel and worked for the Israeli Ministry of Def
 ense. Mr. Roman is a frequent speaker at venues around the world\, often a
 ppears on television\, and has written for the Hill\, the Forward\, the Al
 bany Times-Union\, and other publications. He attended American University
  in Washington\, D.C.\, and the Interdisciplinary Center (IDC) in Herzliya
 \, Israel\, where he studied national security studies and political commu
 nications.\n\n\n\nPost-Event Podcast\nIf you missed this event you can now
  listen to a podcast of the presentation courtesy of Alaska Public Media b
 y clicking the link below:\n\nhttps://www.alaskapublic.org/2017/12/01/the-
 middle-east-and-the-trump-administration/\n
ATTACH;FMTTYPE=image/jpeg:https://alaskaworldaffairs.org/wp-content/upload
 s/2017/08/Gregg-Roman.gif
CATEGORIES:Global Conflict &amp; Complexity
LOCATION:49th State Brewing Company\, 717 W 3rd Ave\, Anchorage\, AK\, 9950
 1\, United States
GEO:61.21968289999999;-149.8958227
X-APPLE-STRUCTURED-LOCATION;VALUE=URI;X-ADDRESS=717 W 3rd Ave\, Anchorage\,
  AK\, 99501\, United States;X-APPLE-RADIUS=100;X-TITLE=49th State Brewing 
 Company:geo:61.21968289999999,-149.8958227
END:VEVENT
BEGIN:VTIMEZONE
TZID:America/Anchorage
X-LIC-LOCATION:America/Anchorage
BEGIN:STANDARD
DTSTART:20171105T010000
TZOFFSETFROM:-0800
TZOFFSETTO:-0900
TZNAME:AKST
END:STANDARD
END:VTIMEZONE
END:VCALENDAR