BEGIN:VCALENDAR
VERSION:2.0
PRODID:-//wp-events-plugin.com//7.2.3.1//EN
TZID:America/Anchorage
X-WR-TIMEZONE:America/Anchorage
BEGIN:VEVENT
UID:347@alaskaworldaffairs.org
DTSTART;TZID=America/Anchorage:20230321T120000
DTEND;TZID=America/Anchorage:20230321T130000
DTSTAMP:20231231T070731Z
URL:https://alaskaworldaffairs.org/archived-events/french-american-transat
 lantic-relations-and-business-in-france-cg-frederic-jung/
SUMMARY:French-American Transatlantic Relations and Business in France | CG
  Frédéric Jung
DESCRIPTION:Join the World Trade Center Alaska in partnership with The Alas
 ka World Affairs Council to hear from Frédéric Jung\, Consul General for
  France in San Francisco.\n\n\n\nAbout the Speaker\nOriginally from the Al
 sace region of France\, he is a graduate of the Institute of Political Stu
 dies in Strasbourg.\n\nHe joined the French Ministry for Europe and Foreig
 n Affairs in 2004.\n\nThe various positions he held in Paris and abroad le
 d him to develop a particular interest in the United Nations and the Europ
 ean Union.\n\nIn Paris\, he dealt with disarmament and non-proliferation i
 ssues\, and then negotiations at the UN Security Council regarding the Mid
 dle East.\n\nIn New York\, from 2009 on\, he was a negotiator on African i
 ssues at the French Mission to the United Nations\, before becoming the Mi
 ssion’s spokesperson until 2014.\n\nHe then moved to Brussels to become 
 the spokesperson for the Permanent Representation of France to the Europea
 n Union\, dealing in particular with the Eurozone\, migration and security
  issues at the European level.\n\nFrom May 2017 to August 2020\, he was se
 conded to the French Ministry of Interior as the diplomatic advisor to the
  Minister.\n\nFrédéric Jung was appointed Consul General of France in Sa
 n Francisco on August 28\, 2020.\n\nHe is married and father of two childr
 en.\n\n\n\nRegister online here.\nAKWorld members receive WTC Member prici
 ng.
ATTACH;FMTTYPE=image/jpeg:https://alaskaworldaffairs.org/wp-content/upload
 s/2023/03/web_20230119_Frederic-Jung_036.jpg
LOCATION:Sullivan's Steakhouse\, 320 W 5th Ave\, Anchorage\, AK\, 99501\, U
 nited States
GEO:61.2171402;-149.8886715
X-APPLE-STRUCTURED-LOCATION;VALUE=URI;X-ADDRESS=320 W 5th Ave\, Anchorage\,
  AK\, 99501\, United States;X-APPLE-RADIUS=100;X-TITLE=Sullivan's Steakhou
 se:geo:61.2171402,-149.8886715
END:VEVENT
BEGIN:VTIMEZONE
TZID:America/Anchorage
X-LIC-LOCATION:America/Anchorage
BEGIN:DAYLIGHT
DTSTART:20230312T030000
TZOFFSETFROM:-0900
TZOFFSETTO:-0800
TZNAME:AKDT
END:DAYLIGHT
END:VTIMEZONE
END:VCALENDAR