BEGIN:VCALENDAR
VERSION:2.0
PRODID:-//wp-events-plugin.com//7.1.7//EN
TZID:America/Anchorage
X-WR-TIMEZONE:America/Anchorage
BEGIN:VEVENT
UID:221@alaskaworldaffairs.org
DTSTART;TZID=America/Anchorage;VALUE=DATE:20161116
DTEND;TZID=America/Anchorage;VALUE=DATE:20161119
DTSTAMP:20231222T084853Z
URL:https://alaskaworldaffairs.org/archived-events/america-global-megatren
 ds-waca/
SUMMARY:America & Global Megatrends - 2016 WACA National Conference
DESCRIPTION:\n\nJoin AKWorld in Washington\, DC for the annual World Affair
 s Councils of America National Conference. This year's conference theme is
 \, America and Global Megatrends. With an incredible line-up of AMAZING sp
 eakers spanning three days\, this is an experience not to be missed. Reser
 ve Your Place Now!\n\nCome November\, with a new President-elect preparing
  to assume office amid tectonic global shifts and after a divisive campaig
 n at home\, you can be among thought leaders\, government decision makers\
 , and industry experts who will discuss the future\, answer questions\, an
 d propose solutions to some of the vexing challenges throughout the world.
 \n\nWHY ATTEND THE WACA NATIONAL CONFERENCE:\n\n• GAIN timely insights a
 nd engage in civil debate about the U.S. role in the world\n• MEET top s
 peakers and ambassadors who will travel to your Council communities\n• L
 EARN from both sides of the aisle about the risks and opportunities facing
  the next administration\n• VISIT think tanks and embassies\n• DISCOVE
 R fresh ideas through peer-to-peer networking\nVisit the conference websit
 e to read more about the conference agenda\, learn about the speakers\, an
 d register to attend.
ATTACH;FMTTYPE=image/jpeg:https://alaskaworldaffairs.org/wp-content/upload
 s/2016/07/WACA.png
CATEGORIES:WACA National Conference
LOCATION:The Capital Hilton\, 1001 16th Street NW\, Washington\, DC\, 20036
 \, United States
GEO:38.9031589;-77.03592100000003
X-APPLE-STRUCTURED-LOCATION;VALUE=URI;X-ADDRESS=1001 16th Street NW\, Washi
 ngton\, DC\, 20036\, United States;X-APPLE-RADIUS=100;X-TITLE=The Capital 
 Hilton:geo:38.9031589,-77.03592100000003
END:VEVENT
BEGIN:VTIMEZONE
TZID:America/Anchorage
X-LIC-LOCATION:America/Anchorage
BEGIN:STANDARD
DTSTART:20161106T010000
TZOFFSETFROM:-0800
TZOFFSETTO:-0900
TZNAME:AKST
END:STANDARD
END:VTIMEZONE
END:VCALENDAR